View In:
ArcGIS JavaScript
ArcGIS Online Map Viewer
ArcGIS Earth
Service Description: AERIAL/1999Aerial
Name: AERIAL/1999Aerial
Description:
Single Fused Map Cache: false
Extent:
XMin: 5316770.626281738
YMin: 3799616.1149121136
XMax: 5463324.306281734
YMax: 3938652.0349121094
Spatial Reference: 103054
(6473)
LatestVCSWkid(0)
Initial Extent:
XMin: 5316770.626281738
YMin: 3799616.1149121136
XMax: 5463324.306281734
YMax: 3938652.0349121094
Spatial Reference: 103054
(6473)
LatestVCSWkid(0)
Full Extent:
XMin: 5316770.626281738
YMin: 3799616.1149121136
XMax: 5463324.306281734
YMax: 3938652.0349121094
Spatial Reference: 103054
(6473)
LatestVCSWkid(0)
Pixel Size X: 3.27999999999991
Pixel Size Y: 3.2799999999998994
Band Count: 3
Pixel Type: U8
RasterFunction Infos: {"rasterFunctionInfos": [{
"name": "None",
"description": "",
"help": ""
}]}
Mensuration Capabilities: Basic
Inspection Capabilities:
Has Histograms: true
Has Colormap: false
Has Multi Dimensions : false
Rendering Rule:
Min Scale: 0
Max Scale: 0
Copyright Text:
Service Data Type: esriImageServiceDataTypeRGB
Min Values: 0, 0, 0
Max Values: 255, 255, 255
Mean Values: 90.503714488904, 90.503714488904, 90.503714488904
Standard Deviation Values: 40.218487560115, 40.218487560115, 40.218487560115
Object ID Field:
Fields:
None
Default Mosaic Method: Center
Allowed Mosaic Methods:
SortField:
SortValue: null
Mosaic Operator: First
Default Compression Quality: 75
Default Resampling Method: Bilinear
Max Record Count: null
Max Image Height: 4100
Max Image Width: 15000
Max Download Image Count: null
Max Mosaic Image Count: null
Allow Raster Function: true
Allow Copy: true
Allow Analysis: true
Allow Compute TiePoints: false
Supports Statistics: false
Supports Advanced Queries: false
Use StandardizedQueries: true
Raster Type Infos:
Name: Raster Dataset
Description: Supports all ArcGIS Raster Datasets
Help:
Has Raster Attribute Table: false
Edit Fields Info: null
Ownership Based AccessControl For Rasters: null
Child Resources:
Info
Histograms
Statistics
Key Properties
Legend
Raster Function Infos
Supported Operations:
Export Image
Identify
Measure
Compute Histograms
Compute Statistics Histograms
Get Samples
Compute Class Statistics
Query Boundary
Compute Pixel Location
Compute Angles
Validate
Project