{
 "currentVersion": 11.5,
 "serviceDescription": "AERIAL/1999Aerial",
 "serviceItemId": "fee0b92e18b34ff6a3ab19b418429466",
 "name": "AERIAL/1999Aerial",
 "description": "",
 "extent": {
  "xmin": 5316770.626281738,
  "ymin": 3799616.1149121136,
  "xmax": 5463324.306281734,
  "ymax": 3938652.0349121094,
  "spatialReference": {
   "wkid": 103054,
   "latestWkid": 6473
  }
 },
 "initialExtent": {
  "xmin": 5316770.626281738,
  "ymin": 3799616.1149121136,
  "xmax": 5463324.306281734,
  "ymax": 3938652.0349121094,
  "spatialReference": {
   "wkid": 103054,
   "latestWkid": 6473
  }
 },
 "fullExtent": {
  "xmin": 5316770.626281738,
  "ymin": 3799616.1149121136,
  "xmax": 5463324.306281734,
  "ymax": 3938652.0349121094,
  "spatialReference": {
   "wkid": 103054,
   "latestWkid": 6473
  }
 },
 "sortableFields": "",
 "bandCount": 3,
 "pixelType": "U8",
 "minValues": [
  0,
  0,
  0
 ],
 "maxValues": [
  255,
  255,
  255
 ],
 "meanValues": [
  90.503714488904,
  90.503714488904,
  90.503714488904
 ],
 "stdvValues": [
  40.218487560115,
  40.218487560115,
  40.218487560115
 ],
 "serviceProperties": "Center<\/MosaicMethod>First<\/MosaicOperator>true<\/SortAscending><\/LockImageID><\/TileOrderField>0<\/TileOrderBase>0.000000<\/AvgImageSpacingX>0.000000<\/AvgImageSpacingY>0.0<\/ViewPointX>0.0<\/ViewPointY>0.0<\/ViewPointDefShiftX>0.0<\/ViewPointDefShiftY>None<\/CompressionMethod>75<\/CompressionQuality>0.010000<\/CompressionTolerance>Bilinear<\/SamplingMethod><\/ImageServiceProperties><\/ImageServer>",
 "allowedFields": "",
 "hasMultidimensions": false,
 "pixelSizeX": 3.27999999999991,
 "pixelSizeY": 3.2799999999998994,
 "meanPixelSize": 0.9997459994919701,
 "datasetFormat": "TIFF",
 "uncompressedSize": 5681948727,
 "blockWidth": 128,
 "blockHeight": 128,
 "compressionType": "LZW",
 "bandNames": [
  "Band_1",
  "Band_2",
  "Band_3"
 ],
 "allowCopy": true,
 "allowAnalysis": true,
 "itemAccess": false,
 "inspectionCapabilities": "",
 "noDataValue": 256,
 "noDataValues": [
  256,
  256,
  256
 ],
 "minPixelSize": 0,
 "maxPixelSize": 0,
 "copyrightText": "",
 "serviceDataType": "esriImageServiceDataTypeRGB",
 "serviceSourceType": "esriImageServiceSourceTypeDataset",
 "objectIdField": "",
 "fields": [],
 "capabilities": "Image,Metadata,Mensuration",
 "defaultMosaicMethod": "Center",
 "allowedMosaicMethods": "",
 "sortField": "",
 "sortValue": null,
 "sortAscending": true,
 "mosaicOperator": "First",
 "defaultCompressionQuality": 75,
 "defaultResamplingMethod": "Bilinear",
 "maxImageHeight": 4100,
 "maxImageWidth": 15000,
 "allowRasterFunction": true,
 "rasterFunctionInfos": [
  {
   "name": "None",
   "description": "",
   "help": ""
  }
 ],
 "rasterTypeInfos": [
  {
   "name": "Raster Dataset",
   "description": "Supports all ArcGIS Raster Datasets",
   "help": ""
  }
 ],
 "mensurationCapabilities": "Basic",
 "hasHistograms": true,
 "hasColormap": false,
 "hasRasterAttributeTable": false,
 "minScale": 0,
 "maxScale": 0,
 "exportTilesAllowed": false,
 "supportsStatistics": false,
 "supportsAdvancedQueries": false,
 "editFieldsInfo": null,
 "ownershipBasedAccessControlForRasters": null,
 "allowComputeTiePoints": false,
 "useStandardizedQueries": true,
 "advancedQueryCapabilities": {
  "useStandardizedQueries": true,
  "supportsStatistics": false,
  "supportsOrderBy": false,
  "supportsDistinct": false,
  "supportsPagination": false
 },
 "spatialReference": {
  "wkid": 103054,
  "latestWkid": 6473
 }
}
