View In:
ArcGIS JavaScript
ArcGIS Online Map Viewer
ArcGIS Earth
Service Description: AERIAL/2020Aerial
Name: AERIAL/2020Aerial
Description:
Single Fused Map Cache: false
Extent:
XMin: 1610400.0
YMin: 115896.0
XMax: 1723920.0
YMax: 224136.0
Spatial Reference: 102679
(2246)
LatestVCSWkid(0)
Initial Extent:
XMin: 1610400.0
YMin: 115896.0
XMax: 1723920.0
YMax: 224136.0
Spatial Reference: 102679
(2246)
LatestVCSWkid(0)
Full Extent:
XMin: 1610400.0
YMin: 115896.0
XMax: 1723920.0
YMax: 224136.0
Spatial Reference: 102679
(2246)
LatestVCSWkid(0)
Pixel Size X: 0.5
Pixel Size Y: 0.5
Band Count: 3
Pixel Type: U8
RasterFunction Infos: {"rasterFunctionInfos": [{
"name": "None",
"description": "",
"help": ""
}]}
Mensuration Capabilities: Basic
Inspection Capabilities:
Has Histograms: true
Has Colormap: false
Has Multi Dimensions : false
Rendering Rule:
Min Scale: 0
Max Scale: 0
Copyright Text:
Service Data Type: esriImageServiceDataTypeProcessed
Min Values: 61, 55, 8
Max Values: 255, 255, 255
Mean Values: 176.7557277628, 176.63746630728, 143.98214285714
Standard Deviation Values: 60.27371278068, 59.624086090253, 83.905057317105
Object ID Field:
Fields:
None
Default Mosaic Method: Center
Allowed Mosaic Methods:
SortField:
SortValue: null
Mosaic Operator: First
Default Compression Quality: 75
Default Resampling Method: Bilinear
Max Record Count: null
Max Image Height: 4100
Max Image Width: 15000
Max Download Image Count: null
Max Mosaic Image Count: null
Allow Raster Function: true
Allow Copy: true
Allow Analysis: true
Allow Compute TiePoints: false
Supports Statistics: false
Supports Advanced Queries: false
Use StandardizedQueries: true
Raster Type Infos:
Name: Raster Dataset
Description: Supports all ArcGIS Raster Datasets
Help:
Has Raster Attribute Table: false
Edit Fields Info: null
Ownership Based AccessControl For Rasters: null
Child Resources:
Info
Histograms
Statistics
Key Properties
Legend
Raster Function Infos
Supported Operations:
Export Image
Identify
Measure
Compute Histograms
Compute Statistics Histograms
Get Samples
Compute Class Statistics
Query Boundary
Compute Pixel Location
Compute Angles
Validate
Project